BEGIN:VCALENDAR
VERSION:2.0
PRODID:-//Person Centered Services - ECPv6.15.20//NONSGML v1.0//EN
CALSCALE:GREGORIAN
METHOD:PUBLISH
X-ORIGINAL-URL:https://personcenteredservices.com
X-WR-CALDESC:Events for Person Centered Services
REFRESH-INTERVAL;VALUE=DURATION:PT1H
X-Robots-Tag:noindex
X-PUBLISHED-TTL:PT1H
BEGIN:VTIMEZONE
TZID:UTC
BEGIN:STANDARD
TZOFFSETFROM:+0000
TZOFFSETTO:+0000
TZNAME:UTC
DTSTART:20240101T000000
END:STANDARD
END:VTIMEZONE
BEGIN:VEVENT
DTSTART;TZID=UTC:20251213T130000
DTEND;TZID=UTC:20251213T160000
DTSTAMP:20260425T125433
CREATED:20251117T195550Z
LAST-MODIFIED:20251119T150348Z
UID:5502-1765630800-1765641600@personcenteredservices.com
SUMMARY:1st Annual Christmas Bazaar
DESCRIPTION:Person Centered Services will be on hand at the 1st Annual Christmas Bazaar through the Camp BU Foundation on December 13\, 2025 at 1PM. This is a free event for youth and people of all abilities!
URL:https://personcenteredservices.com/events/1st-annual-christmas-bazaar/
LOCATION:Frank E. Merriweather Jr. Library\, 1324 Jefferson Ave\, Buffalo\, NY\, 14208\, United States
CATEGORIES:All Events,Free Public Event
ATTACH;FMTTYPE=application/pdf:https://personcenteredservices.com/wp-content/uploads/2025/11/Newest-Bazaar-flyer-002.pdf
END:VEVENT
END:VCALENDAR